BEGIN:VCALENDAR
VERSION:2.0
PRODID:-//wp-events-plugin.com//7.2.3.1//EN
TZID:Europe/Berlin
X-WR-TIMEZONE:Europe/Berlin
BEGIN:VEVENT
UID:548@julakademie.de
DTSTART;TZID=Europe/Berlin:20261203T090000
DTEND;TZID=Europe/Berlin:20261203T160000
DTSTAMP:20260423T113117Z
URL:https://julakademie.de/events/zum-umgang-mit-herausforderndem-verhalte
 n-in-der-kita/
SUMMARY:Zum Umgang mit herausforderndem Verhalten in der Kita
DESCRIPTION:Dozentin: Steffen Jeran\n\nKurzbeschreibung:\n\nIn der pädagog
 ischen Praxis kommt es immer wieder zu Situationen\, die für die Beteilig
 ten herausfordernd sein können. Verhaltensweisen wie Schlagen\, Beißen\,
  Schreien\, Kratzen usw. fordern den Beteiligten viel ab\, hinterlassen Sp
 uren und Fragen: Und wie können wir damit umgehen? In diesem Workshop ler
 nt Ihr\, wie Ihr professionell in solchen Situationen reagieren könnt und
  welche Möglichkeiten es gibt\, systematisch mit herausforderndem Verhalt
 en umzugehen.\n\nInhaltliche Stichpunkte:\n\n 	Kennenlernen von akuten Han
 dlungsstrategien in herausfordernden Situationen mit Kindern\n 	Kennenlern
 en eines systematischen Ablaufes im Umgang mit herausforderndem Verhalten\
 n\nZiele:\n\nNach dem Workshop könnt Ihr folgende Fragen beantworten:\n\n
  	Wie kann ein konstruktiver Akutumgang aussehen?\n 	Wie kann systematisch
  mit wiederkehrenden herausfordernden Situationen umgegangen werden?\n 	Wi
 e können Präventivmaßnahmen umgesetzt werden?\n\nZielgruppe: Pädagogi
 sche Fachkräfte und Mitarbeiter:innen in Krippe\, Kita\, Hort\, Erzieher:
 innen\, Kinderpfleger:innen\n\nBitte beachten Sie: Pro Person ist die Buch
 ung von max. 3 Teilnahmeplätzen möglich! Bei Fragen zur Veranstaltung bz
 w. Rückfragen zur Buchung schreiben Sie uns bitte eine E-Mail
ATTACH;FMTTYPE=image/jpeg:https://julakademie.de/wp-content/uploads/2025/1
 2/Seminare.png
CATEGORIES:Präsenzseminar,Seminare Hamburg
END:VEVENT
BEGIN:VTIMEZONE
TZID:Europe/Berlin
X-LIC-LOCATION:Europe/Berlin
BEGIN:STANDARD
DTSTART:20261025T020000
TZOFFSETFROM:+0200
TZOFFSETTO:+0100
TZNAME:CET
END:STANDARD
END:VTIMEZONE
END:VCALENDAR