BEGIN:VCALENDAR
VERSION:2.0
PRODID:-//wp-events-plugin.com//7.2.3.1//EN
TZID:Europe/Berlin
X-WR-TIMEZONE:Europe/Berlin
BEGIN:VEVENT
UID:268@julakademie.de
DTSTART;TZID=Europe/Berlin:20250717T090000
DTEND;TZID=Europe/Berlin:20250717T120000
DTSTAMP:20250709T080028Z
URL:https://julakademie.de/events/wie-bringe-ich-vielfalt-in-entwicklungsg
 espraeche/
SUMMARY:Wie bringe ich Vielfalt in Entwicklungsgespräche?
DESCRIPTION:Dozentin: Elisabeth Kraus\n\nKurzbeschreibung:\n\nOft kommen El
 tern in unsere Einrichtungen und bitten um Hilfe\, Tipps und Tricks oder u
 m Informationen zu den Entwicklungsphasen ihrer Kinder. In diesem Impulsvo
 rtrag befassen wir uns mit Methoden der lösungsorientierten Beratung aus
  der systemischen Sichtweise\, welche die Familien wertschätzend und ganz
 heitlich da abholt\, wo sie stehen.\n\n 	der systemische Blick auf das Kin
 d sowie seine Eltern\n 	Methoden\, um durch das Gespräch zu führen\n 	Vo
 rbereitung\, Ablauf und Reflexion eines Entwicklungsgespräches\n\nZiel is
 t es\, die Ergebnisse in die Entwicklungsgespräche einzubinden\, welche S
 ie systemisch und ressourcenorientiert aufbauen.\n\n&nbsp\;\n\nZielgruppe:
  Pädagogische Fachkräfte und Mitarbeiter:innen in Krippe\, Kita\, Hort\
 , Erzieher:innen\, Kinderpfleger:innen\n\nBitte beachten Sie: Pro Person i
 st die Buchung von max. 3 Teilnahmeplätzen möglich! Bei Fragen zur Veran
 staltung (Wie bringe ich Vielfalt in Entwicklungsgespräche?)  bzw. Rück
 fragen zur Buchung schreiben Sie uns bitte eine E-Mail
ATTACH;FMTTYPE=image/jpeg:https://julakademie.de/wp-content/uploads/2022/1
 0/Header-Impulsvortrag-Online.png
CATEGORIES:Impulsvorträge
END:VEVENT
BEGIN:VTIMEZONE
TZID:Europe/Berlin
X-LIC-LOCATION:Europe/Berlin
BEGIN:DAYLIGHT
DTSTART:20250330T030000
TZOFFSETFROM:+0100
TZOFFSETTO:+0200
TZNAME:CEST
END:DAYLIGHT
END:VTIMEZONE
END:VCALENDAR