BEGIN:VCALENDAR
VERSION:2.0
PRODID:-//wp-events-plugin.com//7.2.3.1//EN
TZID:Europe/Berlin
X-WR-TIMEZONE:Europe/Berlin
BEGIN:VEVENT
UID:270@julakademie.de
DTSTART;TZID=Europe/Berlin:20250911T090000
DTEND;TZID=Europe/Berlin:20250911T120000
DTSTAMP:20250115T151624Z
URL:https://julakademie.de/events/warum-beissen-kinder/
SUMMARY:Warum beißen Kinder?
DESCRIPTION:Dozentin: Annette Reisinger\n\n&nbsp\;\n\nKurzbeschreibung:\n\n
 Kleinstkinder\, die andere Kinder in der Gruppe beißen\, stellen Fachkrä
 fte vor große pädagogische Herausforderungen. Hinter jedem Verhalten ste
 ht ein Bedürfnis\, dies gilt es zu erkennen. Die Frage nach dem „guten 
 Grund“ des Kindes.\n\nInhalte:\n\n 	Ursachen des Verhaltens\n 	Handlungs
 strategien und Begleitung\n 	Zusammenarbeit mit Eltern\n\nIn diesem Impuls
 vortrag lernen wir eine Vielfalt an Strategien\, im Umgang mit auffällige
 m Verhalten\, kennen. Eine systemische Sichtweise\, mit Blick auf alle Bet
 eiligten\, unterstützt uns in diesen herausfordernden Situationen.\n\n&nb
 sp\;\n\nZielgruppe: Pädagogische Fachkräfte und Mitarbeiter:innen in Kr
 ippe\, Kita\, Hort\, Erzieher:innen\, Kinderpfleger:innen\n\nBitte beachte
 n Sie: Pro Person ist die Buchung von max. 3 Teilnahmeplätzen möglich! B
 ei Fragen zur Veranstaltung (Warum beißen Kinder?)  bzw. Rückfragen zur
  Buchung schreiben Sie uns bitte eine E-Mail
ATTACH;FMTTYPE=image/jpeg:https://julakademie.de/wp-content/uploads/2022/1
 0/Header-Impulsvortrag-Online.png
CATEGORIES:Impulsvorträge
END:VEVENT
BEGIN:VTIMEZONE
TZID:Europe/Berlin
X-LIC-LOCATION:Europe/Berlin
BEGIN:DAYLIGHT
DTSTART:20250330T030000
TZOFFSETFROM:+0100
TZOFFSETTO:+0200
TZNAME:CEST
END:DAYLIGHT
END:VTIMEZONE
END:VCALENDAR