BEGIN:VCALENDAR
VERSION:2.0
PRODID:-//wp-events-plugin.com//7.2.3.1//EN
TZID:Europe/Berlin
X-WR-TIMEZONE:Europe/Berlin
BEGIN:VEVENT
UID:271@julakademie.de
DTSTART;TZID=Europe/Berlin:20250918T090000
DTEND;TZID=Europe/Berlin:20250918T120000
DTSTAMP:20250904T123250Z
URL:https://julakademie.de/events/toben-schubsen-kaempfen-konflikte-unter-
 kindern-verstehen-paedagogisch-begleiten/
SUMMARY:Toben\, schubsen\, kämpfen: Konflikte unter Kindern verstehen & p
 ädagogisch begleiten
DESCRIPTION:Dozent: Matthias Kullick\n\n&nbsp\;\n\nKurzbeschreibung:\n\nKin
 der messen sich gerne körperlich. Sie brauchen das vor allem aus verschie
 denen sozialen Aspekten.\n\nIn diesem Workshop setzen wir uns mit den nat
 ürlichen Rauf- und Rangeleiverhalten von Kindern auseinander und erarbeit
 en Strategien\, um diese konstruktiv zu begleiten und pädagogisch sinnvol
 l zu integrieren.\n\nInhalte des Workshops:\n\n 	Verständnis für das nat
 ürliche Rangeleien und Raufen bei Kindern\n 	Psychologische und entwicklu
 ngsbedingte Hintergründe\n 	Unterscheidung zwischen spielerischem Raufen 
 und aggressivem Verhalten\n 	Methoden zur Beobachtung und Analyse von Rauf
 - und Rangeleiverhalten\n 	Pädagogische Ansätze zur Förderung von sozia
 lem Lernen und Konfliktlösung\n 	Strategien zur Deeskalation und zur För
 derung eines respektvollen Umgangs\n 	Praktische Übungen und Fallbeispiel
 e zur Anwendung im Kita-Alltag\n\nZiele des Workshops:\n\n 	Verständnis f
 ür das Rauf- und Rangeleiverhalten von Kindern entwickeln\n 	Erkennen und
  Unterscheiden von spielerischem und aggressivem Verhalten\n 	Erlernen von
  Techniken zur Förderung von sozialem Lernen und Konfliktlösung\n 	Verbe
 sserung der eigenen pädagogischen Praxis durch praxisnahe Ansätze\n 	Fö
 rderung einer positiven und respektvollen Konfliktkultur in der Kita\n 	Au
 stausch und Vernetzung mit anderen Fachkräften\n\n&nbsp\;\n\nZielgruppe:
  Pädagogische Fachkräfte und Mitarbeiter:innen in Krippe\, Kita\, Hort\
 , Erzieher:innen\, Kinderpfleger:innen\n\nBitte beachten Sie: Pro Person i
 st die Buchung von max. 3 Teilnahmeplätzen möglich! Bei Fragen zur Veran
 staltung (Toben\, schubsen\, kämpfen: Konflikte unter Kindern verstehen &
 amp\; pädagogisch begleiten) bzw. Rückfragen zur Buchung schreiben Sie u
 ns bitte eine E-Mail
ATTACH;FMTTYPE=image/jpeg:https://julakademie.de/wp-content/uploads/2022/1
 0/Header-Impulsvortrag-Online.png
CATEGORIES:Impulsvorträge
END:VEVENT
BEGIN:VTIMEZONE
TZID:Europe/Berlin
X-LIC-LOCATION:Europe/Berlin
BEGIN:DAYLIGHT
DTSTART:20250330T030000
TZOFFSETFROM:+0100
TZOFFSETTO:+0200
TZNAME:CEST
END:DAYLIGHT
END:VTIMEZONE
END:VCALENDAR