BEGIN:VCALENDAR
VERSION:2.0
PRODID:-//wp-events-plugin.com//7.2.3.1//EN
TZID:Europe/Berlin
X-WR-TIMEZONE:Europe/Berlin
BEGIN:VEVENT
UID:311@julakademie.de
DTSTART;TZID=Europe/Berlin:20250410T090000
DTEND;TZID=Europe/Berlin:20250410T120000
DTSTAMP:20250115T142857Z
URL:https://julakademie.de/events/rueckenbelastung-ade-tipps-fuer-einen-ge
 sunden-kita-alltag/
SUMMARY:Rückenbelastung ade: Tipps für einen gesunden Kita-Alltag
DESCRIPTION:Dozent: Heidrun Schudak\n\nKurzbeschreibung:\n\nEin gesunder R
 ücken ist entscheidend für das Wohlbefinden im Arbeitsalltag. Der Impuls
 vortrag bietet praxisnahe Ratschläge\, um Rückenbeschwerden vorzubeugen 
 und zu lindern. Sie lernen ergonomische Möbel zum rückengerechten Arbeit
 en kennen.\n\nInhalte des Workshops: \n\n 	Ursachen und Auswirkungen von R
 ückenbelastungen\n 	Ergonomische Arbeitsplatzgestaltung\n 	Präventive Ma
 ßnahmen und Tipps für den Alltag\n 	Unterstützungsmöglichkeiten und Hi
 lfsmittel\n\nZiele des Workshops:\n\n Der Vortrag zielt darauf ab\, Fachk
 räften in Kindertagesstätten das notwendige Wissen zu vermitteln\, um R
 ückenbelastungen zu erkennen und geeignete Maßnahmen zur Prävention und
  Linderung zu ergreifen. Dadurch wird ein gesunder und schmerzfreier Arbei
 tsalltag ermöglicht.\n\nMotivation/Ausblick: \n\nNutzen Sie die Gelegenhe
 it\, Ihr Wissen im Bereich Rückengesundheit zu erweitern und die Belastun
 gen im Kita-Alltag zu reduzieren.\n\nZielgruppe: Pädagogische Fachkräft
 e und Mitarbeiter:innen in Krippe\, Kita\, Hort\, Erzieher:innen\, Kinderp
 fleger:innen\n\nBitte beachten Sie: Pro Person ist die Buchung von max. 3 
 Teilnahmeplätzen möglich! Bei Fragen zur Veranstaltung (Kindliche Entwic
 klungsaufgaben &amp\; Entwicklungsprozesse verstehen)  bzw. Rückfragen z
 ur Buchung schreiben Sie uns bitte eine E-Mail
ATTACH;FMTTYPE=image/jpeg:https://julakademie.de/wp-content/uploads/2022/1
 0/Header-Impulsvortrag-Online.png
CATEGORIES:Impulsvorträge
END:VEVENT
BEGIN:VTIMEZONE
TZID:Europe/Berlin
X-LIC-LOCATION:Europe/Berlin
BEGIN:DAYLIGHT
DTSTART:20250330T030000
TZOFFSETFROM:+0100
TZOFFSETTO:+0200
TZNAME:CEST
END:DAYLIGHT
END:VTIMEZONE
END:VCALENDAR