BEGIN:VCALENDAR
VERSION:2.0
PRODID:-//wp-events-plugin.com//7.2.3.1//EN
TZID:Europe/Berlin
X-WR-TIMEZONE:Europe/Berlin
BEGIN:VEVENT
UID:355@julakademie.de
DTSTART;TZID=Europe/Berlin:20260128T090000
DTEND;TZID=Europe/Berlin:20260128T120000
DTSTAMP:20251016T080658Z
URL:https://julakademie.de/events/portfolioarbeit-sinnvoll-und-motivierend
 -gestalten/
SUMMARY:Portfolioarbeit sinnvoll und motivierend gestalten
DESCRIPTION:Dozent: Marcus Schnuck\n\n&nbsp\;\n\nKurzbeschreibung:\n\nDie P
 ortfolioarbeit ist eine Dokumentationsform und eine Möglichkeit der Bezie
 hungsgestaltung zwischen Erwachsenem und Kind. So praktiziert\, wird sie a
 ls sinnvoll und motivierend erlebt\, ohne eine unliebsame Extraaufgabe in 
 der Freizeit zu sein. Wie kann das gelingen?\n\nDas Geheimnis liegt darin\
 , dass es einen sichtbaren und einen unsichtbaren Teil gibt. Letzterer bes
 teht aus dem Reden über das Portfolio. Fachkraft und Kind treten mit dem 
 Portfolio in einen Dialog\, aus dem heraus die pädagogische Arbeit gestal
 tet wird.\n\nDieser Impulsvortrag verbindet die Vermittlung von Grundlagen
 wissen mit konkreten Tipps für die Praxis.\n\nSeminarinhalte:\n\n 	Grundl
 agen der Portfolioarbeit\n 	Beobachtung in der Kita\n 	Ressourcenorientier
 te Beobachtung\n 	Dokumentation und Dialog\n 	Praxistipps\n\n&nbsp\;\n\nZi
 elgruppe: Pädagogische Fachkräfte und Mitarbeiter:innen in Krippe\, Kit
 a\, Hort\, Erzieher:innen\, Kinderpfleger:innen\n\nBitte beachten Sie: Pro
  Person ist die Buchung von max. 3 Teilnahmeplätzen möglich! Bei Fragen 
 zur Veranstaltung (Toben\, schubsen\, kämpfen: Konflikte unter Kindern ve
 rstehen &amp\; pädagogisch begleiten) bzw. Rückfragen zur Buchung schrei
 ben Sie uns bitte eine E-Mail
ATTACH;FMTTYPE=image/jpeg:https://julakademie.de/wp-content/uploads/2022/1
 0/Header-Impulsvortrag-Online.png
CATEGORIES:Impulsvorträge,Vorträge - Pädagogische Praxis &amp;
 Gestaltung
END:VEVENT
BEGIN:VTIMEZONE
TZID:Europe/Berlin
X-LIC-LOCATION:Europe/Berlin
BEGIN:STANDARD
DTSTART:20251026T020000
TZOFFSETFROM:+0200
TZOFFSETTO:+0100
TZNAME:CET
END:STANDARD
END:VTIMEZONE
END:VCALENDAR