BEGIN:VCALENDAR
VERSION:2.0
PRODID:-//wp-events-plugin.com//7.2.3.1//EN
TZID:Europe/Berlin
X-WR-TIMEZONE:Europe/Berlin
BEGIN:VEVENT
UID:253@julakademie.de
DTSTART;TZID=Europe/Berlin:20250513T090000
DTEND;TZID=Europe/Berlin:20250513T150000
DTSTAMP:20250115T143320Z
URL:https://julakademie.de/events/pfadfinder-und-weltentdecker-mit-kindern
 -nachhaltigkeit-erleben-und-entdecken-bne/
SUMMARY:Pfadfinder und Weltentdecker: Mit Kindern Nachhaltigkeit erleben un
 d entdecken (BNE)
DESCRIPTION:Dozent: Matthias Kullick\n\nKurzbeschreibung:\n\nBildung für n
 achhaltige Entwicklung (BNE) spielt eine wichtige Rolle dabei\, Kinder zu 
 befähigen\, verantwortungsbewusste und aktive Gestalter einer nachhaltige
 n Zukunft zu werden. Die Kinder entwickeln eigene Ideen die Welt von morge
 n zu erhalten. Dabei steht der achtsame Umgang mit Ressourcen der eigene L
 ebenswelt im Vordergrund sowie die Entwicklung eines umweltbewussten Verst
 ands.\n\nInhalte des Workshops:\n\n 	Einführung in die Bildung für nachh
 altige Entwicklung (BNE)\n 	Bedeutung und Ziele von BNE im frühen Kindesa
 lter\n 	Altersgerechte Ansätze und Methoden zur Vermittlung von Nachhalti
 gkeitsthemen\n 	Praktische Beispiele und Projekte zur Förderung von Umwel
 tbewusstsein und sozialem Engagement\n 	Integration von BNE in den Kita-Al
 ltag: Naturerfahrungen\, Recycling\, Ressourcenschonung\, Fairness und Ger
 echtigkeit\n 	Zusammenarbeit mit Eltern und der Gemeinschaft zur Stärkung
  der Nachhaltigkeitsbildung\n\nZiele des Workshops:\n\n 	Verständnis für
  die Bedeutung von Bildung für nachhaltige Entwicklung im Kindergarten en
 twickeln\n 	Erlernen von Methoden zur spielerischen und kindgerechten Verm
 ittlung von Nachhaltigkeitsthemen\n 	Förderung eines bewussten und verant
 wortungsvollen Umgangs mit natürlichen Ressourcen\n 	Integration von BNE 
 in den pädagogischen Alltag durch praxisnahe Ansätze\n 	Stärkung der Zu
 sammenarbeit mit Eltern und der Gemeinschaft\n 	Austausch und Vernetzung m
 it anderen Fachkräften\n\n&nbsp\;\n\nZielgruppe: Pädagogische Fachkräf
 te und Mitarbeiter:innen in Krippe\, Kita\, Hort\, Erzieher:innen\, Kinder
 pfleger:innen\n\nBitte beachten Sie: Pro Person ist die Buchung von max. 3
  Teilnahmeplätzen möglich! Bei Fragen zur Veranstaltung (Pfadfinder und 
 Weltentdecker: Mit Kindern Nachhaltigkeit erleben und entdecken (BNE)) bzw
 . Rückfragen zur Buchung schreiben Sie uns bitte eine E-Mail
ATTACH;FMTTYPE=image/jpeg:https://julakademie.de/wp-content/uploads/2022/1
 1/Header-Seminare-online-1024x482-1.webp
CATEGORIES:Online-Seminar
END:VEVENT
BEGIN:VTIMEZONE
TZID:Europe/Berlin
X-LIC-LOCATION:Europe/Berlin
BEGIN:DAYLIGHT
DTSTART:20250330T030000
TZOFFSETFROM:+0100
TZOFFSETTO:+0200
TZNAME:CEST
END:DAYLIGHT
END:VTIMEZONE
END:VCALENDAR