BEGIN:VCALENDAR
VERSION:2.0
PRODID:-//wp-events-plugin.com//7.2.3.1//EN
TZID:Europe/Berlin
X-WR-TIMEZONE:Europe/Berlin
BEGIN:VEVENT
UID:288@julakademie.de
DTSTART;TZID=Europe/Berlin:20251110T090000
DTEND;TZID=Europe/Berlin:20251110T150000
DTSTAMP:20251022T112211Z
URL:https://julakademie.de/events/nachhaltigkeit-erleben-das-bne-konzept/
SUMMARY:Nachhaltigkeit (er)leben – Das BNE - Konzept
DESCRIPTION:Dozentin: Annette Reisinger\n\nKurzbeschreibung:\n\nKindertages
 einrichtungen sind hervorragende Lern- und Bildungsorte\, um Kindern Zukun
 ftsfähigkeit im Sinne einer nachhaltigen Entwicklung zu vermitteln. Dabei
  werden Alltagssituationen in den Kindertageseinrichtungen Anlass für Bil
 dungsprozesse. Fragen der Kinder werden aufgegriffen und in Bezug zu BNE g
 estellt.\n\n 	Sozialer Umgang von Erwachsenen und Kindern\n 	Vielfalt in d
 er Kindertageseinrichtung\n 	Umgang mit Ressourcen – Energie\, Wasser\, 
 Müll\, Ernährung\n 	Ernährung und Landwirtschaft\n 	Naturerfahrungen\n\
 nUm konkrete Themen mit den Kindern bearbeiten zu können\, ist es erforde
 rlich\, dass sich Fachkräfte mit eigenen Lebensstilen und Werthaltungen a
 useinandersetzen. Dazu gehören Fragen nach Gerechtigkeit\, Partizipation\
 , Vielfalt und Verantwortungsübernahme. Kinder hinzuführen zu einer nach
 haltigen Entwicklung bedeutet\, praktisches Tun in den Mittelpunkt zu stel
 len und Möglichkeiten für sinnliches Erleben und Begreifen zu bieten.\n\
 n&nbsp\;\n\nZielgruppe: Pädagogische Fachkräfte und Mitarbeiter:innen i
 n Krippe\, Kita\, Hort\, Erzieher:innen\, Kinderpfleger:innen\n\nBitte bea
 chten Sie: Pro Person ist die Buchung von max. 3 Teilnahmeplätzen möglic
 h! Bei Fragen zur Veranstaltung (Nachhaltigkeit (er)leben – Das BNE - Ko
 nzept)  bzw. Rückfragen zur Buchung schreiben Sie uns bitte eine E-Mail
ATTACH;FMTTYPE=image/jpeg:https://julakademie.de/wp-content/uploads/2022/1
 1/Header-Seminare-online-1024x482-1.webp
CATEGORIES:Online-Seminar,Seminare - Pädagogische Praxis &amp; Gestaltung
END:VEVENT
BEGIN:VTIMEZONE
TZID:Europe/Berlin
X-LIC-LOCATION:Europe/Berlin
BEGIN:STANDARD
DTSTART:20251026T020000
TZOFFSETFROM:+0200
TZOFFSETTO:+0100
TZNAME:CET
END:STANDARD
END:VTIMEZONE
END:VCALENDAR