BEGIN:VCALENDAR
VERSION:2.0
PRODID:-//wp-events-plugin.com//7.2.3.1//EN
TZID:Europe/Berlin
X-WR-TIMEZONE:Europe/Berlin
BEGIN:VEVENT
UID:290@julakademie.de
DTSTART;TZID=Europe/Berlin:20251201T090000
DTEND;TZID=Europe/Berlin:20251201T150000
DTSTAMP:20251022T113334Z
URL:https://julakademie.de/events/mahlzeiten-in-der-krippe-gestalten/
SUMMARY:Mahlzeiten in der Krippe gestalten
DESCRIPTION:Dozentin: Edith Gätjen\n\nKurzbeschreibung:\n\nIn Bezug z.B. a
 uf das Verdauungssystem\, die Motorik\, die Augen-Hand-Koordination und vi
 eles mehr\, sind Krippenkinder sicherlich bei der Mahlzeiten Gestaltung ge
 sondert zu betrachten. Nicht selten ist eine individuelle Begleitung erfor
 derlich.\n\n 	Verschlucken\, Infektionsgefahr etc.? Was dürfen Krippen Ki
 nder essen und was nicht?\n 	Mahlzeiten Rhythmus und Portionsgrößen\n 	M
 esser\, Gabel\, Löffel…\n 	Ich kann das „selber“…\, aber nicht im
 mer allein!\n 	Mahlzeiten pädagogisch gestalten und begleiten – Lerngel
 egenheiten schaffen!\n\nZiel: Krippen Kindern Möglichkeitsräume bei den 
 Mahlzeiten eröffnen\, so\, dass sie in ihrem Tempo essen und essen lernen
  und beim Essen lernen können.\n\nMotivation/Ausblick: Mit Krippen Kinder
 n gemeinsam das Essen entdecken und die Liebe zum Essen festigen.\n\n&nbsp
 \;\n\nZielgruppe: Pädagogische Fachkräfte und Mitarbeiter:innen in Krip
 pe\, Kita\, Hort\, Erzieher:innen\, Kinderpfleger:innen\n\nBitte beachten 
 Sie: Pro Person ist die Buchung von max. 3 Teilnahmeplätzen möglich! Bei
  Fragen zur Veranstaltung (Mahlzeiten in der Krippe gestalten)  bzw. Rüc
 kfragen zur Buchung schreiben Sie uns bitte eine E-Mail
ATTACH;FMTTYPE=image/jpeg:https://julakademie.de/wp-content/uploads/2022/1
 1/Header-Seminare-online-1024x482-1.webp
CATEGORIES:Online-Seminar,Seminare - Gesunde Ernährung
END:VEVENT
BEGIN:VTIMEZONE
TZID:Europe/Berlin
X-LIC-LOCATION:Europe/Berlin
BEGIN:STANDARD
DTSTART:20251026T020000
TZOFFSETFROM:+0200
TZOFFSETTO:+0100
TZNAME:CET
END:STANDARD
END:VTIMEZONE
END:VCALENDAR