BEGIN:VCALENDAR
VERSION:2.0
PRODID:-//wp-events-plugin.com//7.2.3.1//EN
TZID:Europe/Berlin
X-WR-TIMEZONE:Europe/Berlin
BEGIN:VEVENT
UID:285@julakademie.de
DTSTART;TZID=Europe/Berlin:20251014T000000
DTEND;TZID=Europe/Berlin:20251014T000000
DTSTAMP:20251009T125327Z
URL:https://julakademie.de/events/koerper-geist-in-einklang-bringen/
SUMMARY:Körper & Geist in Einklang bringen
DESCRIPTION:Dozentin: Usha Swamy\n\nKurzbeschreibung:\n\nWenn Körper und G
 eist im Einklang sind\, fühlen wir uns wohl und sind im Kontakt mit uns s
 elbst. Entdecken Sie praktische Wege\, um Ihren Körper zu entspannen und 
 Ihren Geist zu beruhigen.\n\nInhalt des Seminars:\n\n 	Bodyscan: Feinere K
 örperwahrnehmung entwickeln\n 	Meditation: Den Geist zur Ruhe bringen\n 	
 Verbindung von Körper und Geist: Sanfte Bewegungsübungen\n 	Geh-Meditati
 on zur Förderung der Gelassenheit\n 	Integration ins tägliche Leben\n\n&
 nbsp\;\n\nErleben Sie Momente des Innehaltens und des Zu-sich-Kommens\; ge
 winnen Sie durch Stille den Kontakt zu sich selbst und schöpfen Sie neue 
 Kraft. Aus dieser inneren Ruhe heraus können Sie bessere Entscheidungen t
 reffen und auch in stressigen Situationen gelassen bleiben.\n\n&nbsp\;\n\n
 Zielgruppe: Pädagogische Fachkräfte und Mitarbeiter:innen in Krippe\, K
 ita\, Hort\, Erzieher:innen\, Kinderpfleger:innen\n\nBitte beachten Sie: P
 ro Person ist die Buchung von max. 3 Teilnahmeplätzen möglich! Bei Frage
 n zur Veranstaltung (Körper &amp\; Geist in Einklang bringen)  bzw. Rüc
 kfragen zur Buchung schreiben Sie uns bitte eine E-Mail
ATTACH;FMTTYPE=image/jpeg:https://julakademie.de/wp-content/uploads/2022/1
 0/Header-Impulsvortrag-Online.png
CATEGORIES:Impulsvorträge
END:VEVENT
BEGIN:VTIMEZONE
TZID:Europe/Berlin
X-LIC-LOCATION:Europe/Berlin
BEGIN:DAYLIGHT
DTSTART:20250330T030000
TZOFFSETFROM:+0100
TZOFFSETTO:+0200
TZNAME:CEST
END:DAYLIGHT
END:VTIMEZONE
END:VCALENDAR