BEGIN:VCALENDAR
VERSION:2.0
PRODID:-//wp-events-plugin.com//7.2.3.1//EN
TZID:Europe/Berlin
X-WR-TIMEZONE:Europe/Berlin
BEGIN:VEVENT
UID:342@julakademie.de
DTSTART;TZID=Europe/Berlin;VALUE=DATE:20260101
DTEND;TZID=Europe/Berlin;VALUE=DATE:20270101
DTSTAMP:20251013T104439Z
URL:https://julakademie.de/events/inhouse-schulung-umgang-mit-dem-tod-kind
 ern-begegnen-in-zeiten-von-trauer-und-verlust-inhouse-angebot-in-muenchen-
 und-umgebung-fuer-paedagogische-fachkraefte/
SUMMARY:Inhouse-Schulung: Umgang mit dem Tod – Kindern begegnen in Zeiten
  von Trauer und Verlust  - Inhouse-Angebot in München und Umgebung für p
 ädagogische Fachkräfte
DESCRIPTION:Dozentin: Sonja Santamaria\n\nKurzbeschreibung:\n\nTod und Trau
 er sind Themen\, die im Kita-Alltag oft unerwartet auftreten – sei es du
 rch den Verlust eines Angehörigen\, eines Haustiers oder im schlimmsten F
 all eines Kindes.\n\nViele Fachkräfte sind emotional betroffen und pädag
 ogisch herausgefordert.\n\nIn dieser sensibel gestalteten Inhouse-Schulung
  erfahren Pädagog:innen\, wie sie Kinder im Trauerprozess einfühlsam beg
 leiten können – mit Worten\, Ritualen und professioneller Haltung.\n\nS
 chwerpunkte:\n\n 	Entwicklungsgerechtes Trauerverständnis bei Kindern\n 	
 Gespräche über den Tod altersgerecht führen\n 	Einsatz von Ritualen\, B
 ilderbüchern und Symbolen\n 	Umgang mit der eigenen Betroffenheit und Sel
 bstfürsorge\n 	Zusammenarbeit mit Eltern und Team in Krisenzeiten\n 	Refl
 exion eigener Erfahrungen\, Austausch und Fallarbeit\n\nZiele:\n\n 	Sicher
 heit im Umgang mit Tod\, Trauer und Verlust wird aufgebaut\n 	Methoden\, R
 ituale und Materialien zur kindgerechten Begleitung werden kennengelernt\n
  	die eigene Haltung zum Thema Verlust wird reflektiert und gestärkt\n 	I
 mpulse für die Elternarbeit und die kollegiale Begleitung im Team werden 
 vermittelt\n\n&nbsp\;\nSie interessieren Sich für diese Inhouse-Schulung?
  Nehmen Sie Kontakt mit uns auf\n[formidable id=15]
ATTACH;FMTTYPE=image/jpeg:https://julakademie.de/wp-content/uploads/2024/0
 9/Bild-Inhouseschulung.png
CATEGORIES:Inhouse - Pädagogische Praxis &amp;
 Gestaltung,Inhouse-Schulung
END:VEVENT
BEGIN:VTIMEZONE
TZID:Europe/Berlin
X-LIC-LOCATION:Europe/Berlin
BEGIN:STANDARD
DTSTART:20251026T020000
TZOFFSETFROM:+0200
TZOFFSETTO:+0100
TZNAME:CET
END:STANDARD
BEGIN:DAYLIGHT
DTSTART:20260329T030000
TZOFFSETFROM:+0100
TZOFFSETTO:+0200
TZNAME:CEST
END:DAYLIGHT
BEGIN:STANDARD
DTSTART:20261025T020000
TZOFFSETFROM:+0200
TZOFFSETTO:+0100
TZNAME:CET
END:STANDARD
END:VTIMEZONE
END:VCALENDAR