BEGIN:VCALENDAR
VERSION:2.0
PRODID:-//wp-events-plugin.com//7.2.3.1//EN
TZID:Europe/Berlin
X-WR-TIMEZONE:Europe/Berlin
BEGIN:VEVENT
UID:345@julakademie.de
DTSTART;TZID=Europe/Berlin;VALUE=DATE:20260101
DTEND;TZID=Europe/Berlin;VALUE=DATE:20270101
DTSTAMP:20251013T104333Z
URL:https://julakademie.de/events/inhouse-schulung-der-wald-als-erlebnispa
 edagogischer-lernort-natur-erleben-und-paedagogisch-nutzen/
SUMMARY:Inhouse-Schulung: Der Wald als erlebnispädagogischer Lernort – N
 atur erleben und pädagogisch nutzen
DESCRIPTION:Dozent: Stefan Linke\n\nKurzbeschreibung:\n\nDiese zweitägige 
 Fortbildung führt praxisnah in die erlebnis- und naturpädagogische Arbei
 t mit Kindern und Jugendlichen ein. Der Wald wird als Erfahrungsraum und L
 ernfeld erkundet: Wie lässt sich Natur altersgerecht und wirksam in päda
 gogische Prozesse integrieren? Welche Rolle spielt die Fachkraft dabei? Im
  Fokus stehen Modelle der Naturbegegnung\, theoretische Grundlagen sowie v
 ielfältige methodische Zugänge. Ein besonderer Akzent liegt auf der Plan
 ung und Umsetzung von Seilkonstruktionen für Gruppenprozesse im Wald.\n\n
 Schwerpunkte:\n\nTheoretische Grundlagen der Erlebnis- und Naturpädagogik
 \n\nModelle und Methoden der Naturerfahrung\n\nBedeutung von Naturerlebnis
 sen für Kinder und Jugendliche\n\nSeilbauten im Wald: Planung\, Sicherhei
 t\, Durchführung\n\nReflexion der pädagogischen Rolle\n\nFormat &amp\; O
 rt:\n\n2-tägige Veranstaltung | Durchführung im Wald | inkl. praktischer
  Einheiten\nSie interessieren Sich für diese Inhouse-Schulung? Nehmen Sie
  Kontakt mit uns auf\n[formidable id=15]
ATTACH;FMTTYPE=image/jpeg:https://julakademie.de/wp-content/uploads/2024/0
 9/Bild-Inhouseschulung.png
CATEGORIES:Inhouse - Pädagogische Praxis &amp;
 Gestaltung,Inhouse-Schulung
END:VEVENT
BEGIN:VTIMEZONE
TZID:Europe/Berlin
X-LIC-LOCATION:Europe/Berlin
BEGIN:STANDARD
DTSTART:20251026T020000
TZOFFSETFROM:+0200
TZOFFSETTO:+0100
TZNAME:CET
END:STANDARD
BEGIN:DAYLIGHT
DTSTART:20260329T030000
TZOFFSETFROM:+0100
TZOFFSETTO:+0200
TZNAME:CEST
END:DAYLIGHT
BEGIN:STANDARD
DTSTART:20261025T020000
TZOFFSETFROM:+0200
TZOFFSETTO:+0100
TZNAME:CET
END:STANDARD
END:VTIMEZONE
END:VCALENDAR