BEGIN:VCALENDAR
VERSION:2.0
PRODID:-//wp-events-plugin.com//7.2.3.1//EN
TZID:Europe/Berlin
X-WR-TIMEZONE:Europe/Berlin
BEGIN:VEVENT
UID:269@julakademie.de
DTSTART;TZID=Europe/Berlin:20250902T090000
DTEND;TZID=Europe/Berlin:20250902T120000
DTSTAMP:20250115T151713Z
URL:https://julakademie.de/events/gestaltung-von-dienstberatungen-eine-met
 hodenreise/
SUMMARY:Gestaltung von Dienstberatungen – eine Methodenreise
DESCRIPTION:Dozent: Mario Braun\n\n&nbsp\;\n\nKurzbeschreibung:\n\nTeambera
 tungen sind das Instrument der Wahl\, wenn es gilt\, miteinander in den Au
 stausch zu pädagogischen Fragestellungen und zur Gestaltung des Kita - Al
 ltags zu kommen. Hier kommt das Team zusammen\, diskutiert\, wird informie
 rt und hat die Möglichkeit die eigene Arbeit zu reflektieren und weiterzu
 entwickeln.\n\nVortrags-Inhalte sind: \n\n 	Methoden für lebendige und ef
 fektive Teamberatungen\n 	Ideen zu mehr Struktur in Diskussionen und ein M
 ehr an Zielorientierung\n 	Ansätze für hin und wieder etwas mehr Spaß i
 n der Durchführung von Beratungen\n 	Methoden zur Themenbearbeitung jense
 its gemeinsamer Beratungen\n\nDer Vortrag soll dazu inspirieren\, den eige
 nen Methodenschatz für die Durchführung von Beratungen im Team oder in a
 nderen Kontexten zu erweitern.\n\nAlle vorgestellten Methoden sind so gest
 altet\, dass sie sofort umsetzbar sind. Anleitungen für die Umsetzung wer
 den den Teilnehmenden digital zur Verfügung gestellt.\n\n&nbsp\;\n\nZielg
 ruppe: Pädagogische Fachkräfte und Mitarbeiter:innen in Krippe\, Kita\,
  Hort\, Erzieher:innen\, Kinderpfleger:innen\n\nBitte beachten Sie: Pro Pe
 rson ist die Buchung von max. 3 Teilnahmeplätzen möglich! Bei Fragen zur
  Veranstaltung (Gestaltung von Dienstberatungen – eine Methodenreise)  
 bzw. Rückfragen zur Buchung schreiben Sie uns bitte eine E-Mail
ATTACH;FMTTYPE=image/jpeg:https://julakademie.de/wp-content/uploads/2022/1
 0/Header-Impulsvortrag-Online.png
CATEGORIES:Impulsvorträge
END:VEVENT
BEGIN:VTIMEZONE
TZID:Europe/Berlin
X-LIC-LOCATION:Europe/Berlin
BEGIN:DAYLIGHT
DTSTART:20250330T030000
TZOFFSETFROM:+0100
TZOFFSETTO:+0200
TZNAME:CEST
END:DAYLIGHT
END:VTIMEZONE
END:VCALENDAR