BEGIN:VCALENDAR
VERSION:2.0
PRODID:-//wp-events-plugin.com//7.2.3.1//EN
TZID:Europe/Berlin
X-WR-TIMEZONE:Europe/Berlin
BEGIN:VEVENT
UID:450@julakademie.de
DTSTART;TZID=Europe/Berlin:20260601T090000
DTEND;TZID=Europe/Berlin:20260601T120000
DTSTAMP:20251016T083812Z
URL:https://julakademie.de/events/freispiel-in-der-krippe/
SUMMARY:Freispiel in der Krippe
DESCRIPTION:Dozentin: Annette Reisinger\n\nKurzbeschreibung:\n\nDas Freispi
 el in der Krippe ist eine Phase\, in der Kinder selbstbestimmt spielen k
 önnen\, ohne von Fachkräften angeleitet zu werden. Sie entscheiden selb
 st\, was\, wo\, mit wem und wie lange sie spielen möchten. Das Freispiel
  ist wichtig für die kindliche Entwicklung\, da es die Selbstständigkeit
 \, Kreativität\, das nachhaltige Lernen und soziale Kompetenzen fördert.
 \n\nIm Freispiel haben Kinder die Freiheit\, ihre Spielaktivitäten selbst
  zu wählen. Sie können mit verschiedenen Materialien experimentieren\, 
 in Rollen schlüpfen oder sich einfach zurückziehen und beobachten. Die 
 Fachkräfte sind währenddessen feinfühlige Begleiter und achtsame Beobac
 hter und bieten bei Bedarf Unterstützung an.\n\nSeminarinhalte\n\n 	Raum-
  und Materialagebot bei Kindern unter 3 Jahren\n 	Rolle der Fachkraft im F
 reispiel\n 	Wie gelingt nachhaltiges Lernen bei Kindern U3?\n 	Reflexion d
 es Tagesablaufs in der Einrichtung\n 	Blick auf Rituale und Rhythmen – w
 as ist zu viel?\n\n&nbsp\;\n\nZielgruppe: Pädagogische Fachkräfte und M
 itarbeiter:innen in Krippe\, Kita\, Hort\, Erzieher:innen\, Kinderpfleger:
 innen\n\nBitte beachten Sie: Pro Person ist die Buchung von max. 3 Teilnah
 meplätzen möglich! Bei Fragen zur Veranstaltung (Freispiel in der Krippe
 ) bzw. Rückfragen zur Buchung schreiben Sie uns bitte eine E-Mail
ATTACH;FMTTYPE=image/jpeg:https://julakademie.de/wp-content/uploads/2022/1
 0/Header-Impulsvortrag-Online.png
CATEGORIES:Impulsvorträge,Vorträge - U3-Praxis: Begleitung, Spielen,
 Wachsen
END:VEVENT
BEGIN:VTIMEZONE
TZID:Europe/Berlin
X-LIC-LOCATION:Europe/Berlin
BEGIN:DAYLIGHT
DTSTART:20260329T030000
TZOFFSETFROM:+0100
TZOFFSETTO:+0200
TZNAME:CEST
END:DAYLIGHT
END:VTIMEZONE
END:VCALENDAR