BEGIN:VCALENDAR
VERSION:2.0
PRODID:-//wp-events-plugin.com//7.2.3.1//EN
TZID:Europe/Berlin
X-WR-TIMEZONE:Europe/Berlin
BEGIN:VEVENT
UID:466@julakademie.de
DTSTART;TZID=Europe/Berlin:20260917T090000
DTEND;TZID=Europe/Berlin:20260917T150000
DTSTAMP:20251016T084523Z
URL:https://julakademie.de/events/entwicklungsberichte-schreiben-dokumenta
 tion-mit-aussagekraft/
SUMMARY:Entwicklungsberichte schreiben – Dokumentation mit Aussagekraft
DESCRIPTION:Dozentin: Dörte Büttner\n\nKurzbeschreibung:\n\nWorte\, die v
 erbinden: Mit professionellen Entwicklungsberichten schaffen Sie Transpare
 nz\, Vertrauen und eine wertschätzende Kommunikation mit Eltern. Lernen S
 ie\, Berichte zu verfassen\, die die individuelle Entwicklung jedes Kindes
  sichtbar machen und schulen Sie gleichzeitig Ihren ressourcenorientierten
  Blick auf das Kind.\n\nDokumentieren Sie die Entwicklung jedes Kindes tra
 nsparent und wertschätzend und informieren Sie Eltern gezielt\, um sie ak
 tiv in den Entwicklungsprozess einzubinden. So stärken sie ihre schriftli
 che Kompetenz und schaffen eine vertrauensvolle Basis für die Zusammenarb
 eit mit Eltern und Fachkräften.\n\nSeminarinhalt:\n\n 	Aufbau und Inhalte
  eines Entwicklungsberichts\n 	Sprache und Formulierungen\, die Kinder und
  Eltern wertschätzend ansprechen\n 	Formulierungen erarbeiten und übe\n 
 	Praxisbeispiele und Übungen zum Schreiben\n\n&nbsp\;\n\nZielgruppe: Pä
 dagogische Fachkräfte und Mitarbeiter:innen in Krippe\, Kita\, Hort\, Erz
 ieher:innen\, Kinderpfleger:innen\n\nBitte beachten Sie: Pro Person ist di
 e Buchung von max. 3 Teilnahmeplätzen möglich! Bei Fragen zur Veranstalt
 ung (Entwicklungsberichte schreiben – Dokumentation mit Aussagekraft) bz
 w. Rückfragen zur Buchung schreiben Sie uns bitte eine E-Mail
ATTACH;FMTTYPE=image/jpeg:https://julakademie.de/wp-content/uploads/2022/1
 1/Header-Seminare-online-1024x482-1.webp
CATEGORIES:Online-Seminar,Seminare - Pädagogische Praxis &amp; Gestaltung
END:VEVENT
BEGIN:VTIMEZONE
TZID:Europe/Berlin
X-LIC-LOCATION:Europe/Berlin
BEGIN:DAYLIGHT
DTSTART:20260329T030000
TZOFFSETFROM:+0100
TZOFFSETTO:+0200
TZNAME:CEST
END:DAYLIGHT
END:VTIMEZONE
END:VCALENDAR