BEGIN:VCALENDAR
VERSION:2.0
PRODID:-//wp-events-plugin.com//7.2.3.1//EN
TZID:Europe/Berlin
X-WR-TIMEZONE:Europe/Berlin
BEGIN:VEVENT
UID:390@julakademie.de
DTSTART;TZID=Europe/Berlin:20260312T090000
DTEND;TZID=Europe/Berlin:20260312T150000
DTSTAMP:20251016T082031Z
URL:https://julakademie.de/events/elterngespraeche-zeitgemaess-gestalten-n
 eue-methoden-fuer-mehr-dialog-auf-augenhoehe/
SUMMARY:Elterngespräche zeitgemäß gestalten – neue Methoden für mehr 
 Dialog auf Augenhöhe
DESCRIPTION:Dozentin: Katrin Frindert\n\nKurzbeschreibung:\n\nElterngesprä
 che sind zentrale Bausteine gelingender Bildungs- und Erziehungspartnersch
 aft. Doch klassische Formate stoßen zunehmend an ihre Grenzen – vor all
 em bei heterogenen Familienrealitäten und erhöhtem Kommunikationsbedarf.
  Dieses Seminar stellt neue\, dialogorientierte Methoden vor\, die Beziehu
 ng\, Beteiligung und Vertrauen stärken – auch bei sensiblen Themen.\n\n
 Ziel des Seminars ist es\, mehr Sicherheit im Umgang mit neuen Methoden f
 ür Elterngespräche zu gewinnen. Die Teilnehmenden lernen\, Gespräche st
 rukturierter\, dialogischer und partnerschaftlicher zu führen. Es werden 
 zudem Themen wie diversitätssensible Kommunikation oder digitale Kommunik
 ationsstrategien aufgegriffen.\n\nSeminarinhalte:\n\n 	Reflexion klassisch
 er Gesprächsformen\n 	Neue methodische Ansätze für Elterngespräche (z.
  B. lösungsorientierte Gesprächsführung\, Visualisierung\, Fragetechn
 iken)\n 	Umgang mit schwierigen oder belasteten Gesprächssituationen\n 	F
 amilienvielfalt und interkulturelle Sensibilität\n 	Stärkung der Dialogk
 ompetenz im Team\n 	Digitale und hybride Möglichkeiten der Elternkommunik
 ation\n\n&nbsp\;\n\nZielgruppe: Pädagogische Fachkräfte und Mitarbeiter
 :innen in Krippe\, Kita\, Hort\, Erzieher:innen\, Kinderpfleger:innen\n\nB
 itte beachten Sie: Pro Person ist die Buchung von max. 3 Teilnahmeplätzen
  möglich! Bei Fragen zur Veranstaltung (Elterngespräche zeitgemäß gest
 alten – neue Methoden für mehr Dialog auf Augenhöhe) bzw. Rückfragen 
 zur Buchung schreiben Sie uns bitte eine E-Mail
ATTACH;FMTTYPE=image/jpeg:https://julakademie.de/wp-content/uploads/2022/1
 1/Header-Seminare-online-1024x482-1.webp
CATEGORIES:Online-Seminar,Seminare - Elternbegleitung/ Elternarbeit
END:VEVENT
BEGIN:VTIMEZONE
TZID:Europe/Berlin
X-LIC-LOCATION:Europe/Berlin
BEGIN:STANDARD
DTSTART:20251026T020000
TZOFFSETFROM:+0200
TZOFFSETTO:+0100
TZNAME:CET
END:STANDARD
END:VTIMEZONE
END:VCALENDAR