BEGIN:VCALENDAR
VERSION:2.0
PRODID:-//wp-events-plugin.com//7.2.3.1//EN
TZID:Europe/Berlin
X-WR-TIMEZONE:Europe/Berlin
BEGIN:VEVENT
UID:500@julakademie.de
DTSTART;TZID=Europe/Berlin:20260128T090000
DTEND;TZID=Europe/Berlin:20260128T160000
DTSTAMP:20251210T162318Z
URL:https://julakademie.de/events/eingewoehnung-2-0-ein-neues-modell-das-f
 amilien-staerkt-und-fachkraefte-entlastet/
SUMMARY:Eingewöhnung 2.0: Ein neues Modell\, das Familien stärkt und Fach
 kräfte entlastet
DESCRIPTION:Dozentin: Kati Müller\n\nKurzbeschreibung:\n\nWie kann Eingew
 öhnung so gestaltet werden\, dass sie Familien stärkt\, Kinder sicher be
 gleitet und gleichzeitig Teams entlastet?\nDieses Seminar stellt ein innov
 atives\, elternaktives Eingewöhnungsmodell vor\, das auf einer Bildungsre
 ise entdeckt und in mehreren JUL-Einrichtungen bereits erfolgreich umgeset
 zt wird.\n\nDie Teilnehmenden erhalten:\n\n 	wissenschaftliche Grundlagen 
 zu Bindung\, Beteiligung und gelingenden Übergängen\,\n 	Erfahrungsberic
 hte aus norwegischen Kitas\, die den Ansatz seit Jahren leben\,\n 	praxisn
 ahe Einblicke aus JUL-Einrichtungen\, die das Modell bereits anwenden\,\n 
 	konkrete Impulse\, wie Familien aktiv\, selbstwirksam und ressourcenorien
 tiert eingebunden werden können.\n\nDas elternaktive Eingewöhnungsmodell
  verbindet skandinavische Haltung\, moderne Entwicklungspsychologie und ec
 hte Entlastung für pädagogische Teams.\n\nEin inspirierender Einblick in
  eine Eingewöhnungskultur\, die Kindern Sicherheit gibt\, Eltern stärkt 
 und Pädagog:innen neue Handlungsspielräume eröffnet.\n\nZielgruppe: P
 ädagogische Fachkräfte und Mitarbeiter:innen in Krippe\, Kita\, Hort\, E
 rzieher:innen\, Kinderpfleger:innen\n\nBitte beachten Sie: Pro Person ist 
 die Buchung von max. 3 Teilnahmeplätzen möglich! Bei Fragen zur Veransta
 ltung (Eingewöhnung 2.0: Ein neues Modell\, das Familien stärkt und Fach
 kräfte entlastet)  bzw. Rückfragen zur Buchung schreiben Sie uns bitte 
 eine E-Mail
ATTACH;FMTTYPE=image/jpeg:https://julakademie.de/wp-content/uploads/2025/1
 2/Seminare.png
CATEGORIES:Präsenzseminar,Seminare Hamburg
END:VEVENT
BEGIN:VTIMEZONE
TZID:Europe/Berlin
X-LIC-LOCATION:Europe/Berlin
BEGIN:STANDARD
DTSTART:20251026T020000
TZOFFSETFROM:+0200
TZOFFSETTO:+0100
TZNAME:CET
END:STANDARD
END:VTIMEZONE
END:VCALENDAR