BEGIN:VCALENDAR
VERSION:2.0
PRODID:-//wp-events-plugin.com//7.2.3.1//EN
TZID:Europe/Berlin
X-WR-TIMEZONE:Europe/Berlin
BEGIN:VEVENT
UID:502@julakademie.de
DTSTART;TZID=Europe/Berlin:20260129T090000
DTEND;TZID=Europe/Berlin:20260129T160000
DTSTAMP:20251210T162340Z
URL:https://julakademie.de/events/digitale-bildungs-und-lernwelten-paedago
 gische-qualitaet-kritische-medienbalance-und-verantwortliche-umsetzung/
SUMMARY:Digitale Bildungs- und Lernwelten:  Pädagogische Qualität\, kriti
 sche Medienbalance und verantwortliche Umsetzung
DESCRIPTION:Dozent: Matthias Kullick\n\nKurzbeschreibung:\n\nDigitale Bildu
 ng gehört heute selbstverständlich zur Bildungswelt von Kindern – doch
  viele Einrichtungen stehen vor der Frage: Wie setzen wir digitale Medien 
 sinnvoll\, sicher und pädagogisch wertvoll ein?\n\nIn dieser Fortbildung 
 erhalten Pädagog*innen konkrete Impulse\, wie digitale Medien im Alltag u
 nterstützend wirken können. Wir erproben niedrigschwellige Tools wie Ler
 nroboter\, kindgerechte Apps und kreative Medienprojekte – immer mit Fok
 us auf Entwicklung\, Schutz und Kompetenzerweiterung.\n\nSeminarinhalte:\n
 \n 	Digitale Bildung heute: Chancen\, aktuelle Erkenntnisse\, gesetzliche 
 Rahmenbedingungen\n 	Medienpädagogische Grundlagen: Orientierung an KMK-K
 ompetenzrahmen &amp\; frühkindlicher Medienkompetenz\n 	Entwicklungsgerec
 hte Medienauswahl: Kriterienkatalog\, Qualitätsmerkmale\, Datenschutz\n 	
 Praxisstationen: Lernroboter\, Storytelling-Apps\, Audioprojekte\, Tablets
  im Alltag Medienkompetenz der Kinder stärken: Selbstwirksamkeit\, kritis
 ches Denken\, Kreativität\n 	Reflexion der eigenen Haltung: Medienbalance
 \, Vorbildrolle\, Teamabsprachen Einrichtung digital weiterentwickeln: Ers
 te Schritte\, Teamkompass\, technische Basics Zusätzliche Infos\n\nZielgr
 uppe: Pädagogische Fachkräfte und Mitarbeiter:innen in Krippe\, Kita\, 
 Hort\, Erzieher:innen\, Kinderpfleger:innen\n\nBitte beachten Sie: Pro Per
 son ist die Buchung von max. 3 Teilnahmeplätzen möglich! Bei Fragen zur 
 Veranstaltung (Digitale Bildungs- und Lernwelten: Pädagogische Qualität\
 , kritische Medienbalance und verantwortliche Umsetzung)  bzw. Rückfrage
 n zur Buchung schreiben Sie uns bitte eine E-Mail
ATTACH;FMTTYPE=image/jpeg:https://julakademie.de/wp-content/uploads/2025/1
 2/Seminare.png
CATEGORIES:Präsenzseminar,Seminare Hamburg
END:VEVENT
BEGIN:VTIMEZONE
TZID:Europe/Berlin
X-LIC-LOCATION:Europe/Berlin
BEGIN:STANDARD
DTSTART:20251026T020000
TZOFFSETFROM:+0200
TZOFFSETTO:+0100
TZNAME:CET
END:STANDARD
END:VTIMEZONE
END:VCALENDAR