BEGIN:VCALENDAR
VERSION:2.0
PRODID:-//wp-events-plugin.com//7.2.3.1//EN
TZID:Europe/Berlin
X-WR-TIMEZONE:Europe/Berlin
BEGIN:VEVENT
UID:542@julakademie.de
DTSTART;TZID=Europe/Berlin:20261202T090000
DTEND;TZID=Europe/Berlin:20261202T160000
DTSTAMP:20260423T113702Z
URL:https://julakademie.de/events/die-paedagogische-feuerwehr-stark-handel
 n-in-sozialraeumen-mit-besonderem-entwicklungsbedarf-3/
SUMMARY:Die pädagogische Feuerwehr: Stark handeln in Sozialräumen mit bes
 onderem Entwicklungsbedarf
DESCRIPTION:Dozentin: Matthias Kullick\n\nKurzbeschreibung:\n\nProfessionel
 le Strategien für belastende Situationen\, gelingende Kooperation und Tra
 uma-Sensibilität\n\nKindertageseinrichtungen in herausfordernden Sozialr
 äumen sind Orte\, an denen Pädagog*innen täglich Großes leisten. Armut
 \, familiäre Krisen oder instabile Lebenswelten der Familien stellen hohe
  Anforderungen an Professionalität\, Selbstfürsorge und Teamkommunikatio
 n.\n\nIn dieser Fortbildung reflektieren wir typische Belastungssituatione
 n\, lernen praxisnahe Strategien zur Resilienzstärkung kennen und entwick
 eln einen souveränen Umgang mit anders spielenden Kindern und belasteten 
 Eltern. Neben Grundlagen der traumainformierten Pädagogik betrachten wir 
 auch die eigene Rolle sowie hilfreiche Kooperationen im Sozialraum.\n\nInh
 alte\n\n 	Sozialraum verstehen: Lebensweltanalysen\, Risikolagen\, Ressour
 cen im Quartier\n 	Professionell handeln unter Druck: Strategien für Klar
 heit\, Selbststrukturierung und Präsenz\n 	Resilienz &amp\; Selbstfürsor
 ge: Übungen\, Mikro-Pausen\, Teamrituale und Schutzfaktoren Trauma-inform
 ierte Pädagogik: Warnsignale\, Belastungsreaktionen\, pädagogische Handl
 ungsprinzipien\n\nGelingende Kommunikation im System: Eltern\, Jugendhilfe
 \, Schule\, Beratungsstellen\n\n&nbsp\;\n\nZielgruppe: Pädagogische Fach
 kräfte und Mitarbeiter:innen in Krippe\, Kita\, Hort\, Erzieher:innen\, K
 inderpfleger:innen\n\nBitte beachten Sie: Pro Person ist die Buchung von m
 ax. 3 Teilnahmeplätzen möglich! Bei Fragen zur Veranstaltung (Die pädag
 ogische Feuerwehr: Stark handeln in Sozialräumen mit besonderem Entwicklu
 ngsbedarf)  bzw. Rückfragen zur Buchung schreiben Sie uns bitte eine E-M
 ail
ATTACH;FMTTYPE=image/jpeg:https://julakademie.de/wp-content/uploads/2025/1
 2/Seminare.png
CATEGORIES:Präsenzseminar,Seminare Hamburg
END:VEVENT
BEGIN:VTIMEZONE
TZID:Europe/Berlin
X-LIC-LOCATION:Europe/Berlin
BEGIN:STANDARD
DTSTART:20261025T020000
TZOFFSETFROM:+0200
TZOFFSETTO:+0100
TZNAME:CET
END:STANDARD
END:VTIMEZONE
END:VCALENDAR