BEGIN:VCALENDAR
VERSION:2.0
PRODID:-//wp-events-plugin.com//7.2.3.1//EN
TZID:Europe/Berlin
X-WR-TIMEZONE:Europe/Berlin
BEGIN:VEVENT
UID:260@julakademie.de
DTSTART;TZID=Europe/Berlin:20250618T090000
DTEND;TZID=Europe/Berlin:20250618T150000
DTSTAMP:20250115T152119Z
URL:https://julakademie.de/events/das-resiliente-team-methoden-zur-teambui
 lding/
SUMMARY:Das resiliente Team - Methoden zur Teambuilding
DESCRIPTION:Dozentin: Dörte Büttner\n\nKurzbeschreibung:\n\nNicht nur die
  eigene Rolle als Leitung muss im Prozess der Teambildung klar sein\, sond
 ern auch das Wissen um Teamprozesse und deren Gestaltung. Geeignete Method
 en erleichtern die Teamführung und auch die Teambildung. Diese werden wir
  im Seminar praxisorientiert betrachten und diskutieren.\n\nInhalte\n\n 	M
 iteinander oder Gegeneinander das ist hier die Frage. Wo steht mein Team u
 nd wo haben wir Ressourcen?\n 	Was macht ein Team aus/ was ist meine Rolle
  als Teamleitung?\n 	Methoden zur Standortbestimmung des Teams\n 	Einglied
 erung neuer Teammitglieder\n 	Methoden zur Konfliktlösungen\n 	Methoden f
 ür ein gutes Klima\n\n.\n\n&nbsp\;\n\nZielgruppe: Pädagogische Fachkrä
 fte und Mitarbeiter:innen in Krippe\, Kita\, Hort\, Erzieher:innen\, Kinde
 rpfleger:innen\n\nBitte beachten Sie: Pro Person ist die Buchung von max. 
 3 Teilnahmeplätzen möglich! Bei Fragen zur Veranstaltung (Das resiliente
  Team - Methoden zur Teambuilding) bzw. Rückfragen zur Buchung schreiben 
 Sie uns bitte eine E-Mail
ATTACH;FMTTYPE=image/jpeg:https://julakademie.de/wp-content/uploads/2022/1
 1/Header-Seminare-online-1024x482-1.webp
CATEGORIES:Online-Seminar
END:VEVENT
BEGIN:VTIMEZONE
TZID:Europe/Berlin
X-LIC-LOCATION:Europe/Berlin
BEGIN:DAYLIGHT
DTSTART:20250330T030000
TZOFFSETFROM:+0100
TZOFFSETTO:+0200
TZNAME:CEST
END:DAYLIGHT
END:VTIMEZONE
END:VCALENDAR