BEGIN:VCALENDAR
VERSION:2.0
PRODID:-//wp-events-plugin.com//7.2.3.1//EN
TZID:Europe/Berlin
X-WR-TIMEZONE:Europe/Berlin
BEGIN:VEVENT
UID:296@julakademie.de
DTSTART;TZID=Europe/Berlin:20251120T140000
DTEND;TZID=Europe/Berlin:20251120T170000
DTSTAMP:20251022T112854Z
URL:https://julakademie.de/events/das-freispiel-in-der-kinderkrippe/
SUMMARY:Das Freispiel in der Kinderkrippe
DESCRIPTION:Dozentin: Daniela Chiaffrino\n\nKurzbeschreibung:\n\nDie Wichti
 gkeit des freien Spiels ist eigentlich unumstritten. Dennoch fällt es uns
  immer wieder schwer\, unsere Prioritäten im Krippenalltag entsprechend z
 u setzen. Hier spielt auch oft ein falscher Anspruch oder ein verschobenes
  Bild von außen eine Rolle.\n\nDaher setzen wir uns mit folgenden Themen 
 auseinander:\n\n 	das Spiel in den ersten Lebensjahren\n 	Bildungsräume i
 m freien Spiel\n 	die Rolle und Aufgabe der Pädagog:innen\n\nZiel ist es\
 , das Freispiel als Zeit zu sehen\, in der die Kinder die Möglichkeit hab
 en\, ihren individuellen Bedürfnissen und Entwicklungsschritten nachzugeh
 en sowie uns zu zeigen\, welche Themen gerade wichtig sind. Gerade der Zus
 ammenhang von Lernen und Spielen bestärkt Sie darin\, Ihre Arbeit transpa
 rent für die verschiedenen Anspruchsgruppen zu gestalten.\n\n&nbsp\;\n\nZ
 ielgruppe: Pädagogische Fachkräfte und Mitarbeiter:innen in Krippe\, Ki
 ta\, Hort\, Erzieher:innen\, Kinderpfleger:innen\n\nBitte beachten Sie: Pr
 o Person ist die Buchung von max. 3 Teilnahmeplätzen möglich! Bei Fragen
  zur Veranstaltung (Das Freispiel in der Kinderkrippe)  bzw. Rückfragen 
 zur Buchung schreiben Sie uns bitte eine E-Mail
ATTACH;FMTTYPE=image/jpeg:https://julakademie.de/wp-content/uploads/2022/1
 0/Header-Impulsvortrag-Online.png
CATEGORIES:Impulsvorträge,Vorträge - Pädagogische Praxis &amp;
 Gestaltung,Vorträge - U3-Praxis: Begleitung, Spielen, Wachsen
END:VEVENT
BEGIN:VTIMEZONE
TZID:Europe/Berlin
X-LIC-LOCATION:Europe/Berlin
BEGIN:STANDARD
DTSTART:20251026T020000
TZOFFSETFROM:+0200
TZOFFSETTO:+0100
TZNAME:CET
END:STANDARD
END:VTIMEZONE
END:VCALENDAR