BEGIN:VCALENDAR
VERSION:2.0
PRODID:-//wp-events-plugin.com//7.2.3.1//EN
TZID:Europe/Berlin
X-WR-TIMEZONE:Europe/Berlin
BEGIN:VEVENT
UID:301@julakademie.de
DTSTART;TZID=Europe/Berlin:20251209T090000
DTEND;TZID=Europe/Berlin:20251209T120000
DTSTAMP:20251022T113809Z
URL:https://julakademie.de/events/bindung-zu-vermeintlich-schwierigen-kind
 ern-aufbauen/
SUMMARY:Bindung zu vermeintlich „schwierigen“ Kindern aufbauen
DESCRIPTION:Dozentin: Annette Reisinger\n\nKurzbeschreibung:\n\nEine Bezieh
 ung zu Kindern aufzubauen\, ist eine Grundvoraussetzung für Erziehung und
  Bildung. Pädagogische Beziehungen von Fachkräften zu Kindern machen nur
  Sinn\, wenn sie den Kindern etwas bieten können. Es muss ich für die Ki
 nder lohnen\, solche Beziehungen einzugehen und daher müssen die Fachkrä
 fte fachliche und soziale Kompetenzen haben\, die von den Kindern gewünsc
 ht und gebraucht werden.\n\n 	Fähigkeiten- und ressourcenorientierte Begl
 eitung der Kinder und Jugendlichen\n 	Alters- und entwicklungsentsprechend
 e Beziehungsangebote für Kinder und Jugendliche\n 	Umgang mit Nähe und D
 istanz in der professionellen Haltung\n 	Reflexion eigener Erziehungserfah
 rungen\n\nIn diesem Impulsvortrag gibt es Handlungsstrategien und praktisc
 he Beispiele\, die den alltäglichen Umgang mit herausfordernden Kindern u
 nd Jugendlichen erleichtern. Mit Neugierde und nötiger Gelassenheit erlan
 gen Sie professionellen Bezug zu Kindern und jungen Erwachsenen.\n\n&nbsp\
 ;\n\nZielgruppe: Pädagogische Fachkräfte und Mitarbeiter:innen in Kripp
 e\, Kita\, Hort\, Erzieher:innen\, Kinderpfleger:innen\n\nBitte beachten S
 ie: Pro Person ist die Buchung von max. 3 Teilnahmeplätzen möglich! Bei 
 Fragen zur Veranstaltung (Bindung zu vermeintlich „schwierigen“ Kinder
 n aufbauen)  bzw. Rückfragen zur Buchung schreiben Sie uns bitte eine E-
 Mail
ATTACH;FMTTYPE=image/jpeg:https://julakademie.de/wp-content/uploads/2022/1
 0/Header-Impulsvortrag-Online.png
CATEGORIES:Impulsvorträge,Vorträge - Pädagogische Praxis &amp;
 Gestaltung
END:VEVENT
BEGIN:VTIMEZONE
TZID:Europe/Berlin
X-LIC-LOCATION:Europe/Berlin
BEGIN:STANDARD
DTSTART:20251026T020000
TZOFFSETFROM:+0200
TZOFFSETTO:+0100
TZNAME:CET
END:STANDARD
END:VTIMEZONE
END:VCALENDAR