BEGIN:VCALENDAR
VERSION:2.0
PRODID:-//wp-events-plugin.com//7.2.3.1//EN
TZID:Europe/Berlin
X-WR-TIMEZONE:Europe/Berlin
BEGIN:VEVENT
UID:369@julakademie.de
DTSTART;TZID=Europe/Berlin:20260212T090000
DTEND;TZID=Europe/Berlin:20260212T150000
DTSTAMP:20251016T081457Z
URL:https://julakademie.de/events/aufwachsen-im-heute-beduerfnisse-von-kin
 dern-erkennen-und-begleiten/
SUMMARY:Aufwachsen im Heute: Bedürfnisse von Kindern erkennen und begleite
 n
DESCRIPTION:Dozentin: Katrin Frindert\n\nKurzbeschreibung:\n\nKinder wachse
 n heute in einer veränderten Lebenswelt auf – mit neuen Medien\, neuen 
 Familienbildern und anderen Erwartungen an Erziehung. Pädagogische Fachkr
 äfte brauchen Verständnis für diese Veränderungen und praxisnahe Ansä
 tze\, um Kinder zeitgemäß und bedürfnisorientiert zu begleiten.\n\nSemi
 narinhalte:\n\n 	Soziokulturelle Veränderungen\n 	Erwartungen an Erziehun
 g heute\n 	Bedürfnisse der Kinder verstehen\n 	Haltung und Beziehungsgest
 altung\n 	Praxisideen für den Alltag\n\nZiele:\n\n 	Verständnis für die
  Lebenswelt der Kinder erweitern\n 	Pädagogische Ansätze reflektieren\n 
 	Handlungsfähigkeit im Alltag stärken\n\n&nbsp\;\n\nZielgruppe: Pädago
 gische Fachkräfte und Mitarbeiter:innen in Krippe\, Kita\, Hort\, Erziehe
 r:innen\, Kinderpfleger:innen\n\nBitte beachten Sie: Pro Person ist die Bu
 chung von max. 3 Teilnahmeplätzen möglich! Bei Fragen zur Veranstaltung 
 (Aufwachsen im Heute: Bedürfnisse von Kindern erkennen und begleiten) bzw
 . Rückfragen zur Buchung schreiben Sie uns bitte eine E-Mail
ATTACH;FMTTYPE=image/jpeg:https://julakademie.de/wp-content/uploads/2022/1
 1/Header-Seminare-online-1024x482-1.webp
CATEGORIES:Online-Seminar,Seminare - Pädagogische Praxis &amp; Gestaltung
END:VEVENT
BEGIN:VTIMEZONE
TZID:Europe/Berlin
X-LIC-LOCATION:Europe/Berlin
BEGIN:STANDARD
DTSTART:20251026T020000
TZOFFSETFROM:+0200
TZOFFSETTO:+0100
TZNAME:CET
END:STANDARD
END:VTIMEZONE
END:VCALENDAR